BEGIN:VCALENDAR
VERSION:2.0
PRODID:-//Xàtiva Turismo - ECPv6.15.17//NONSGML v1.0//EN
CALSCALE:GREGORIAN
METHOD:PUBLISH
X-ORIGINAL-URL:https://xativaturismo.com/val/
X-WR-CALDESC:Events for Xàtiva Turismo
REFRESH-INTERVAL;VALUE=DURATION:PT1H
X-Robots-Tag:noindex
X-PUBLISHED-TTL:PT1H
BEGIN:VTIMEZONE
TZID:Europe/Madrid
BEGIN:DAYLIGHT
TZOFFSETFROM:+0100
TZOFFSETTO:+0200
TZNAME:CEST
DTSTART:20250330T010000
END:DAYLIGHT
BEGIN:STANDARD
TZOFFSETFROM:+0200
TZOFFSETTO:+0100
TZNAME:CET
DTSTART:20251026T010000
END:STANDARD
BEGIN:DAYLIGHT
TZOFFSETFROM:+0100
TZOFFSETTO:+0200
TZNAME:CEST
DTSTART:20260329T010000
END:DAYLIGHT
BEGIN:STANDARD
TZOFFSETFROM:+0200
TZOFFSETTO:+0100
TZNAME:CET
DTSTART:20261025T010000
END:STANDARD
BEGIN:DAYLIGHT
TZOFFSETFROM:+0100
TZOFFSETTO:+0200
TZNAME:CEST
DTSTART:20270328T010000
END:DAYLIGHT
BEGIN:STANDARD
TZOFFSETFROM:+0200
TZOFFSETTO:+0100
TZNAME:CET
DTSTART:20271031T010000
END:STANDARD
END:VTIMEZONE
BEGIN:VEVENT
DTSTART;TZID=Europe/Madrid:20260325T080000
DTEND;TZID=Europe/Madrid:20260726T170000
DTSTAMP:20260420T150821
CREATED:20260401T113549Z
LAST-MODIFIED:20260401T115559Z
UID:10007592-1774425600-1785085200@xativaturismo.com
SUMMARY:Equipo Crónica - Crònica d'un temps
DESCRIPTION:[vc_row][vc_column][vc_column_text margin_bottom=”0″ css=”.vc_custom_1775044552629{margin-bottom: 0px !important;}”]Exposició a Xàtiva\nDel 25 de març al 26 de juliol de 2026 \nEspai Cultural Sant Domènec\nMuseu de Belles Arts – Casa de l’Ensenyança \nDe dimarts a dissabte de 10 a 14 h i de 16 a 18 h\nDiumenges i festius de 10 a 14 h[/vc_column_text][/vc_column][/vc_row]
URL:https://xativaturismo.com/val/event/equipo-cronica-cronica-dun-temps/
LOCATION:Convent de Sant Domènec\, Carrer de Sant Domènec\, 7\, Xàtiva\, 46800
CATEGORIES:AGENDA
ATTACH;FMTTYPE=image/jpeg:https://xativaturismo.com/wp-content/uploads/2026/04/cartell-expo-equipo-cronica-08-1-scaled-e1775044064125.jpg
ORGANIZER;CN="Ajuntament de X%C3%A0tiva":MAILTO:xativa@touristinfo.net
END:VEVENT
BEGIN:VEVENT
DTSTART;TZID=Europe/Madrid:20260505T100000
DTEND;TZID=Europe/Madrid:20260505T180000
DTSTAMP:20260420T150821
CREATED:20260417T090339Z
LAST-MODIFIED:20260420T064856Z
UID:10007651-1777975200-1778004000@xativaturismo.com
SUMMARY:05 DE MAYO DE 2026-(M)
DESCRIPTION:
URL:https://xativaturismo.com/val/event/05-de-mayo-de-2026-m/
LOCATION:MUSEUS\, Plaça Arquebisbe Mayoral\, 2\, Xàtiva\, VALENCIA\, 46800\, España
CATEGORIES:MUSEUS
ORGANIZER;CN="Ajuntament de X%C3%A0tiva":MAILTO:xativa@touristinfo.net
END:VEVENT
BEGIN:VEVENT
DTSTART;TZID=Europe/Madrid:20260505T100000
DTEND;TZID=Europe/Madrid:20260505T210000
DTSTAMP:20260420T150821
CREATED:20260417T083016Z
LAST-MODIFIED:20260420T064841Z
UID:10007605-1777975200-1778014800@xativaturismo.com
SUMMARY:05 DE MAYO DE 2026-(C)
DESCRIPTION:
URL:https://xativaturismo.com/val/event/05-de-mayo-de-2026-c/
LOCATION:Castell de Xàtiva\, Pujada al Castell s/n\, Xàtiva\, 46800\, España
CATEGORIES:CASTELL
ORGANIZER;CN="Ajuntament de X%C3%A0tiva":MAILTO:xativa@touristinfo.net
END:VEVENT
BEGIN:VEVENT
DTSTART;TZID=Europe/Madrid:20260506T100000
DTEND;TZID=Europe/Madrid:20260506T180000
DTSTAMP:20260420T150821
CREATED:20260417T090340Z
LAST-MODIFIED:20260420T064856Z
UID:10007652-1778061600-1778090400@xativaturismo.com
SUMMARY:06 DE MAYO DE 2026-(M)
DESCRIPTION:
URL:https://xativaturismo.com/val/event/06-de-mayo-de-2026-m/
LOCATION:MUSEUS\, Plaça Arquebisbe Mayoral\, 2\, Xàtiva\, VALENCIA\, 46800\, España
CATEGORIES:MUSEUS
ORGANIZER;CN="Ajuntament de X%C3%A0tiva":MAILTO:xativa@touristinfo.net
END:VEVENT
BEGIN:VEVENT
DTSTART;TZID=Europe/Madrid:20260506T100000
DTEND;TZID=Europe/Madrid:20260506T210000
DTSTAMP:20260420T150821
CREATED:20260417T083017Z
LAST-MODIFIED:20260420T064841Z
UID:10007606-1778061600-1778101200@xativaturismo.com
SUMMARY:06 DE MAYO DE 2026-(C)
DESCRIPTION:
URL:https://xativaturismo.com/val/event/06-de-mayo-de-2026-c/
LOCATION:Castell de Xàtiva\, Pujada al Castell s/n\, Xàtiva\, 46800\, España
CATEGORIES:CASTELL
ORGANIZER;CN="Ajuntament de X%C3%A0tiva":MAILTO:xativa@touristinfo.net
END:VEVENT
BEGIN:VEVENT
DTSTART;TZID=Europe/Madrid:20260507T100000
DTEND;TZID=Europe/Madrid:20260507T180000
DTSTAMP:20260420T150821
CREATED:20260417T090344Z
LAST-MODIFIED:20260420T064856Z
UID:10007653-1778148000-1778176800@xativaturismo.com
SUMMARY:07 DE MAYO DE 2026-(M)
DESCRIPTION:
URL:https://xativaturismo.com/val/event/07-de-mayo-de-2026-m/
LOCATION:MUSEUS\, Plaça Arquebisbe Mayoral\, 2\, Xàtiva\, VALENCIA\, 46800\, España
CATEGORIES:MUSEUS
ORGANIZER;CN="Ajuntament de X%C3%A0tiva":MAILTO:xativa@touristinfo.net
END:VEVENT
BEGIN:VEVENT
DTSTART;TZID=Europe/Madrid:20260507T100000
DTEND;TZID=Europe/Madrid:20260507T210000
DTSTAMP:20260420T150821
CREATED:20260417T083018Z
LAST-MODIFIED:20260420T064841Z
UID:10007607-1778148000-1778187600@xativaturismo.com
SUMMARY:07 DE MAYO DE 2026-(C)
DESCRIPTION:
URL:https://xativaturismo.com/val/event/07-de-mayo-de-2026-c/
LOCATION:Castell de Xàtiva\, Pujada al Castell s/n\, Xàtiva\, 46800\, España
CATEGORIES:CASTELL
ORGANIZER;CN="Ajuntament de X%C3%A0tiva":MAILTO:xativa@touristinfo.net
END:VEVENT
BEGIN:VEVENT
DTSTART;TZID=Europe/Madrid:20260508T100000
DTEND;TZID=Europe/Madrid:20260508T180000
DTSTAMP:20260420T150821
CREATED:20260417T090345Z
LAST-MODIFIED:20260420T064856Z
UID:10007654-1778234400-1778263200@xativaturismo.com
SUMMARY:08 DE MAYO DE 2026-(M)
DESCRIPTION:
URL:https://xativaturismo.com/val/event/08-de-mayo-de-2026-m/
LOCATION:MUSEUS\, Plaça Arquebisbe Mayoral\, 2\, Xàtiva\, VALENCIA\, 46800\, España
CATEGORIES:MUSEUS
ORGANIZER;CN="Ajuntament de X%C3%A0tiva":MAILTO:xativa@touristinfo.net
END:VEVENT
BEGIN:VEVENT
DTSTART;TZID=Europe/Madrid:20260508T100000
DTEND;TZID=Europe/Madrid:20260508T210000
DTSTAMP:20260420T150822
CREATED:20260417T083019Z
LAST-MODIFIED:20260420T064841Z
UID:10007608-1778234400-1778274000@xativaturismo.com
SUMMARY:08 DE MAYO DE 2026-(C)
DESCRIPTION:
URL:https://xativaturismo.com/val/event/08-de-mayo-de-2026-c/
LOCATION:Castell de Xàtiva\, Pujada al Castell s/n\, Xàtiva\, 46800\, España
CATEGORIES:CASTELL
ORGANIZER;CN="Ajuntament de X%C3%A0tiva":MAILTO:xativa@touristinfo.net
END:VEVENT
BEGIN:VEVENT
DTSTART;TZID=Europe/Madrid:20260509T100000
DTEND;TZID=Europe/Madrid:20260509T180000
DTSTAMP:20260420T150822
CREATED:20260417T090345Z
LAST-MODIFIED:20260420T064856Z
UID:10007655-1778320800-1778349600@xativaturismo.com
SUMMARY:09 DE MAYO DE 2026-(M)
DESCRIPTION:
URL:https://xativaturismo.com/val/event/09-de-mayo-de-2026-m/
LOCATION:MUSEUS\, Plaça Arquebisbe Mayoral\, 2\, Xàtiva\, VALENCIA\, 46800\, España
CATEGORIES:MUSEUS
ORGANIZER;CN="Ajuntament de X%C3%A0tiva":MAILTO:xativa@touristinfo.net
END:VEVENT
BEGIN:VEVENT
DTSTART;TZID=Europe/Madrid:20260509T100000
DTEND;TZID=Europe/Madrid:20260509T210000
DTSTAMP:20260420T150822
CREATED:20260420T080311Z
LAST-MODIFIED:20260420T080438Z
UID:10007677-1778320800-1778360400@xativaturismo.com
SUMMARY:09 DE MAYO DE 2026-(C)
DESCRIPTION:
URL:https://xativaturismo.com/val/event/09-de-mayo-de-2026-c/
LOCATION:Castell de Xàtiva\, Pujada al Castell s/n\, Xàtiva\, 46800\, España
CATEGORIES:CASTELL
ORGANIZER;CN="Ajuntament de X%C3%A0tiva":MAILTO:xativa@touristinfo.net
END:VEVENT
BEGIN:VEVENT
DTSTART;TZID=Europe/Madrid:20260510T100000
DTEND;TZID=Europe/Madrid:20260510T140000
DTSTAMP:20260420T150822
CREATED:20260417T090346Z
LAST-MODIFIED:20260420T064856Z
UID:10007656-1778407200-1778421600@xativaturismo.com
SUMMARY:10 DE MAYO DE 2026-(M)
DESCRIPTION:
URL:https://xativaturismo.com/val/event/10-de-mayo-de-2026-m/
LOCATION:MUSEUS\, Plaça Arquebisbe Mayoral\, 2\, Xàtiva\, VALENCIA\, 46800\, España
CATEGORIES:MUSEUS
ORGANIZER;CN="Ajuntament de X%C3%A0tiva":MAILTO:xativa@touristinfo.net
END:VEVENT
BEGIN:VEVENT
DTSTART;TZID=Europe/Madrid:20260510T100000
DTEND;TZID=Europe/Madrid:20260510T210000
DTSTAMP:20260420T150822
CREATED:20260420T080312Z
LAST-MODIFIED:20260420T080438Z
UID:10007678-1778407200-1778446800@xativaturismo.com
SUMMARY:10 DE MAYO DE 2026-(C)
DESCRIPTION:
URL:https://xativaturismo.com/val/event/10-de-mayo-de-2026-c/
LOCATION:Castell de Xàtiva\, Pujada al Castell s/n\, Xàtiva\, 46800\, España
CATEGORIES:CASTELL
ORGANIZER;CN="Ajuntament de X%C3%A0tiva":MAILTO:xativa@touristinfo.net
END:VEVENT
END:VCALENDAR