BEGIN:VCALENDAR
VERSION:2.0
PRODID:-//Xàtiva Turismo - ECPv6.15.17//NONSGML v1.0//EN
CALSCALE:GREGORIAN
METHOD:PUBLISH
X-WR-CALNAME:Xàtiva Turismo
X-ORIGINAL-URL:https://xativaturismo.com/val/
X-WR-CALDESC:Events for Xàtiva Turismo
REFRESH-INTERVAL;VALUE=DURATION:PT1H
X-Robots-Tag:noindex
X-PUBLISHED-TTL:PT1H
BEGIN:VTIMEZONE
TZID:Europe/Madrid
BEGIN:DAYLIGHT
TZOFFSETFROM:+0100
TZOFFSETTO:+0200
TZNAME:CEST
DTSTART:20250330T010000
END:DAYLIGHT
BEGIN:STANDARD
TZOFFSETFROM:+0200
TZOFFSETTO:+0100
TZNAME:CET
DTSTART:20251026T010000
END:STANDARD
BEGIN:DAYLIGHT
TZOFFSETFROM:+0100
TZOFFSETTO:+0200
TZNAME:CEST
DTSTART:20260329T010000
END:DAYLIGHT
BEGIN:STANDARD
TZOFFSETFROM:+0200
TZOFFSETTO:+0100
TZNAME:CET
DTSTART:20261025T010000
END:STANDARD
BEGIN:DAYLIGHT
TZOFFSETFROM:+0100
TZOFFSETTO:+0200
TZNAME:CEST
DTSTART:20270328T010000
END:DAYLIGHT
BEGIN:STANDARD
TZOFFSETFROM:+0200
TZOFFSETTO:+0100
TZNAME:CET
DTSTART:20271031T010000
END:STANDARD
END:VTIMEZONE
BEGIN:VEVENT
DTSTART;TZID=Europe/Madrid:20260325T080000
DTEND;TZID=Europe/Madrid:20260726T170000
DTSTAMP:20260420T201141
CREATED:20260401T113549Z
LAST-MODIFIED:20260401T115559Z
UID:10007592-1774425600-1785085200@xativaturismo.com
SUMMARY:Equipo Crónica - Crònica d'un temps
DESCRIPTION:[vc_row][vc_column][vc_column_text margin_bottom=”0″ css=”.vc_custom_1775044552629{margin-bottom: 0px !important;}”]Exposició a Xàtiva\nDel 25 de març al 26 de juliol de 2026 \nEspai Cultural Sant Domènec\nMuseu de Belles Arts – Casa de l’Ensenyança \nDe dimarts a dissabte de 10 a 14 h i de 16 a 18 h\nDiumenges i festius de 10 a 14 h[/vc_column_text][/vc_column][/vc_row]
URL:https://xativaturismo.com/val/event/equipo-cronica-cronica-dun-temps/
LOCATION:Convent de Sant Domènec\, Carrer de Sant Domènec\, 7\, Xàtiva\, 46800
CATEGORIES:AGENDA
ATTACH;FMTTYPE=image/jpeg:https://xativaturismo.com/wp-content/uploads/2026/04/cartell-expo-equipo-cronica-08-1-scaled-e1775044064125.jpg
ORGANIZER;CN="Ajuntament de X%C3%A0tiva":MAILTO:xativa@touristinfo.net
END:VEVENT
BEGIN:VEVENT
DTSTART;TZID=Europe/Madrid:20260519T100000
DTEND;TZID=Europe/Madrid:20260519T180000
DTSTAMP:20260420T201141
CREATED:20260417T090415Z
LAST-MODIFIED:20260420T064911Z
UID:10007663-1779184800-1779213600@xativaturismo.com
SUMMARY:19 DE MAYO DE 2026-(M)
DESCRIPTION:
URL:https://xativaturismo.com/val/event/19-de-mayo-de-2026-m/
LOCATION:MUSEUS\, Plaça Arquebisbe Mayoral\, 2\, Xàtiva\, VALENCIA\, 46800\, España
CATEGORIES:MUSEUS
ORGANIZER;CN="Ajuntament de X%C3%A0tiva":MAILTO:xativa@touristinfo.net
END:VEVENT
BEGIN:VEVENT
DTSTART;TZID=Europe/Madrid:20260519T100000
DTEND;TZID=Europe/Madrid:20260519T210000
DTSTAMP:20260420T201141
CREATED:20260417T083031Z
LAST-MODIFIED:20260420T064841Z
UID:10007613-1779184800-1779224400@xativaturismo.com
SUMMARY:19 DE MAYO DE 2026-(C)
DESCRIPTION:
URL:https://xativaturismo.com/val/event/19-de-mayo-de-2026-c/
LOCATION:Castell de Xàtiva\, Pujada al Castell s/n\, Xàtiva\, 46800\, España
CATEGORIES:CASTELL
ORGANIZER;CN="Ajuntament de X%C3%A0tiva":MAILTO:xativa@touristinfo.net
END:VEVENT
BEGIN:VEVENT
DTSTART;TZID=Europe/Madrid:20260520T100000
DTEND;TZID=Europe/Madrid:20260520T180000
DTSTAMP:20260420T201141
CREATED:20260417T090416Z
LAST-MODIFIED:20260420T064911Z
UID:10007664-1779271200-1779300000@xativaturismo.com
SUMMARY:20 DE MAYO DE 2026-(M)
DESCRIPTION:
URL:https://xativaturismo.com/val/event/20-de-mayo-de-2026-m/
LOCATION:MUSEUS\, Plaça Arquebisbe Mayoral\, 2\, Xàtiva\, VALENCIA\, 46800\, España
CATEGORIES:MUSEUS
ORGANIZER;CN="Ajuntament de X%C3%A0tiva":MAILTO:xativa@touristinfo.net
END:VEVENT
BEGIN:VEVENT
DTSTART;TZID=Europe/Madrid:20260520T100000
DTEND;TZID=Europe/Madrid:20260520T210000
DTSTAMP:20260420T201141
CREATED:20260417T083041Z
LAST-MODIFIED:20260420T064841Z
UID:10007614-1779271200-1779310800@xativaturismo.com
SUMMARY:20 DE MAYO DE 2026-(C)
DESCRIPTION:
URL:https://xativaturismo.com/val/event/20-de-mayo-de-2026-c/
LOCATION:Castell de Xàtiva\, Pujada al Castell s/n\, Xàtiva\, 46800\, España
CATEGORIES:CASTELL
ORGANIZER;CN="Ajuntament de X%C3%A0tiva":MAILTO:xativa@touristinfo.net
END:VEVENT
BEGIN:VEVENT
DTSTART;TZID=Europe/Madrid:20260521T100000
DTEND;TZID=Europe/Madrid:20260521T180000
DTSTAMP:20260420T201141
CREATED:20260417T090416Z
LAST-MODIFIED:20260420T064911Z
UID:10007665-1779357600-1779386400@xativaturismo.com
SUMMARY:21 DE MAYO DE 2026-(M)
DESCRIPTION:
URL:https://xativaturismo.com/val/event/21-de-mayo-de-2026-m/
LOCATION:MUSEUS\, Plaça Arquebisbe Mayoral\, 2\, Xàtiva\, VALENCIA\, 46800\, España
CATEGORIES:MUSEUS
ORGANIZER;CN="Ajuntament de X%C3%A0tiva":MAILTO:xativa@touristinfo.net
END:VEVENT
BEGIN:VEVENT
DTSTART;TZID=Europe/Madrid:20260521T100000
DTEND;TZID=Europe/Madrid:20260521T210000
DTSTAMP:20260420T201141
CREATED:20260417T083042Z
LAST-MODIFIED:20260420T064841Z
UID:10007615-1779357600-1779397200@xativaturismo.com
SUMMARY:21 DE MAYO DE 2026-(C)
DESCRIPTION:
URL:https://xativaturismo.com/val/event/21-de-mayo-de-2026-c/
LOCATION:Castell de Xàtiva\, Pujada al Castell s/n\, Xàtiva\, 46800\, España
CATEGORIES:CASTELL
ORGANIZER;CN="Ajuntament de X%C3%A0tiva":MAILTO:xativa@touristinfo.net
END:VEVENT
BEGIN:VEVENT
DTSTART;TZID=Europe/Madrid:20260522T100000
DTEND;TZID=Europe/Madrid:20260522T180000
DTSTAMP:20260420T201141
CREATED:20260417T090417Z
LAST-MODIFIED:20260420T064911Z
UID:10007666-1779444000-1779472800@xativaturismo.com
SUMMARY:22 DE MAYO DE 2026-(M)
DESCRIPTION:
URL:https://xativaturismo.com/val/event/22-de-mayo-de-2026-m/
LOCATION:MUSEUS\, Plaça Arquebisbe Mayoral\, 2\, Xàtiva\, VALENCIA\, 46800\, España
CATEGORIES:MUSEUS
ORGANIZER;CN="Ajuntament de X%C3%A0tiva":MAILTO:xativa@touristinfo.net
END:VEVENT
BEGIN:VEVENT
DTSTART;TZID=Europe/Madrid:20260522T100000
DTEND;TZID=Europe/Madrid:20260522T210000
DTSTAMP:20260420T201141
CREATED:20260417T083042Z
LAST-MODIFIED:20260420T064841Z
UID:10007616-1779444000-1779483600@xativaturismo.com
SUMMARY:22 DE MAYO DE 2026-(C)
DESCRIPTION:
URL:https://xativaturismo.com/val/event/22-de-mayo-de-2026-c/
LOCATION:Castell de Xàtiva\, Pujada al Castell s/n\, Xàtiva\, 46800\, España
CATEGORIES:CASTELL
ORGANIZER;CN="Ajuntament de X%C3%A0tiva":MAILTO:xativa@touristinfo.net
END:VEVENT
BEGIN:VEVENT
DTSTART;TZID=Europe/Madrid:20260523T100000
DTEND;TZID=Europe/Madrid:20260523T180000
DTSTAMP:20260420T201141
CREATED:20260417T090418Z
LAST-MODIFIED:20260420T064911Z
UID:10007667-1779530400-1779559200@xativaturismo.com
SUMMARY:23 DE MAYO DE 2026-(M)
DESCRIPTION:
URL:https://xativaturismo.com/val/event/23-de-mayo-de-2026-m/
LOCATION:MUSEUS\, Plaça Arquebisbe Mayoral\, 2\, Xàtiva\, VALENCIA\, 46800\, España
CATEGORIES:MUSEUS
ORGANIZER;CN="Ajuntament de X%C3%A0tiva":MAILTO:xativa@touristinfo.net
END:VEVENT
BEGIN:VEVENT
DTSTART;TZID=Europe/Madrid:20260523T100000
DTEND;TZID=Europe/Madrid:20260523T210000
DTSTAMP:20260420T201141
CREATED:20260420T080321Z
LAST-MODIFIED:20260420T080438Z
UID:10007681-1779530400-1779570000@xativaturismo.com
SUMMARY:23 DE MAYO DE 2026-(C)
DESCRIPTION:
URL:https://xativaturismo.com/val/event/23-de-mayo-de-2026-c/
LOCATION:Castell de Xàtiva\, Pujada al Castell s/n\, Xàtiva\, 46800\, España
CATEGORIES:CASTELL
ORGANIZER;CN="Ajuntament de X%C3%A0tiva":MAILTO:xativa@touristinfo.net
END:VEVENT
BEGIN:VEVENT
DTSTART;TZID=Europe/Madrid:20260524T100000
DTEND;TZID=Europe/Madrid:20260524T140000
DTSTAMP:20260420T201141
CREATED:20260417T090430Z
LAST-MODIFIED:20260420T064911Z
UID:10007668-1779616800-1779631200@xativaturismo.com
SUMMARY:24 DE MAYO DE 2026-(M)
DESCRIPTION:
URL:https://xativaturismo.com/val/event/24-de-mayo-de-2026-m/
LOCATION:MUSEUS\, Plaça Arquebisbe Mayoral\, 2\, Xàtiva\, VALENCIA\, 46800\, España
CATEGORIES:MUSEUS
ORGANIZER;CN="Ajuntament de X%C3%A0tiva":MAILTO:xativa@touristinfo.net
END:VEVENT
BEGIN:VEVENT
DTSTART;TZID=Europe/Madrid:20260524T100000
DTEND;TZID=Europe/Madrid:20260524T210000
DTSTAMP:20260420T201141
CREATED:20260420T080321Z
LAST-MODIFIED:20260420T080438Z
UID:10007682-1779616800-1779656400@xativaturismo.com
SUMMARY:24 DE MAYO DE 2026-(C)
DESCRIPTION:
URL:https://xativaturismo.com/val/event/24-de-mayo-de-2026-c/
LOCATION:Castell de Xàtiva\, Pujada al Castell s/n\, Xàtiva\, 46800\, España
CATEGORIES:CASTELL
ORGANIZER;CN="Ajuntament de X%C3%A0tiva":MAILTO:xativa@touristinfo.net
END:VEVENT
BEGIN:VEVENT
DTSTART;TZID=Europe/Madrid:20260526T100000
DTEND;TZID=Europe/Madrid:20260526T180000
DTSTAMP:20260420T201141
CREATED:20260417T090430Z
LAST-MODIFIED:20260420T064911Z
UID:10007669-1779789600-1779818400@xativaturismo.com
SUMMARY:26 DE MAYO DE 2026-(M)
DESCRIPTION:
URL:https://xativaturismo.com/val/event/26-de-mayo-de-2026-m/
LOCATION:MUSEUS\, Plaça Arquebisbe Mayoral\, 2\, Xàtiva\, VALENCIA\, 46800\, España
CATEGORIES:MUSEUS
ORGANIZER;CN="Ajuntament de X%C3%A0tiva":MAILTO:xativa@touristinfo.net
END:VEVENT
BEGIN:VEVENT
DTSTART;TZID=Europe/Madrid:20260526T100000
DTEND;TZID=Europe/Madrid:20260526T210000
DTSTAMP:20260420T201141
CREATED:20260417T083043Z
LAST-MODIFIED:20260420T064841Z
UID:10007617-1779789600-1779829200@xativaturismo.com
SUMMARY:26 DE MAYO DE 2026-(C)
DESCRIPTION:
URL:https://xativaturismo.com/val/event/26-de-mayo-de-2026-c/
LOCATION:Castell de Xàtiva\, Pujada al Castell s/n\, Xàtiva\, 46800\, España
CATEGORIES:CASTELL
ORGANIZER;CN="Ajuntament de X%C3%A0tiva":MAILTO:xativa@touristinfo.net
END:VEVENT
BEGIN:VEVENT
DTSTART;TZID=Europe/Madrid:20260527T100000
DTEND;TZID=Europe/Madrid:20260527T180000
DTSTAMP:20260420T201141
CREATED:20260417T090431Z
LAST-MODIFIED:20260420T064911Z
UID:10007670-1779876000-1779904800@xativaturismo.com
SUMMARY:27 DE MAYO DE 2026-(M)
DESCRIPTION:
URL:https://xativaturismo.com/val/event/27-de-mayo-de-2026-m/
LOCATION:MUSEUS\, Plaça Arquebisbe Mayoral\, 2\, Xàtiva\, VALENCIA\, 46800\, España
CATEGORIES:MUSEUS
ORGANIZER;CN="Ajuntament de X%C3%A0tiva":MAILTO:xativa@touristinfo.net
END:VEVENT
BEGIN:VEVENT
DTSTART;TZID=Europe/Madrid:20260527T100000
DTEND;TZID=Europe/Madrid:20260527T210000
DTSTAMP:20260420T201141
CREATED:20260417T083044Z
LAST-MODIFIED:20260420T064841Z
UID:10007618-1779876000-1779915600@xativaturismo.com
SUMMARY:27 DE MAYO DE 2026-(C)
DESCRIPTION:
URL:https://xativaturismo.com/val/event/27-de-mayo-de-2026-c/
LOCATION:Castell de Xàtiva\, Pujada al Castell s/n\, Xàtiva\, 46800\, España
CATEGORIES:CASTELL
ORGANIZER;CN="Ajuntament de X%C3%A0tiva":MAILTO:xativa@touristinfo.net
END:VEVENT
BEGIN:VEVENT
DTSTART;TZID=Europe/Madrid:20260528T100000
DTEND;TZID=Europe/Madrid:20260528T180000
DTSTAMP:20260420T201141
CREATED:20260417T090432Z
LAST-MODIFIED:20260420T064911Z
UID:10007671-1779962400-1779991200@xativaturismo.com
SUMMARY:28 DE MAYO DE 2026-(M)
DESCRIPTION:
URL:https://xativaturismo.com/val/event/28-de-mayo-de-2026-m/
LOCATION:MUSEUS\, Plaça Arquebisbe Mayoral\, 2\, Xàtiva\, VALENCIA\, 46800\, España
CATEGORIES:MUSEUS
ORGANIZER;CN="Ajuntament de X%C3%A0tiva":MAILTO:xativa@touristinfo.net
END:VEVENT
BEGIN:VEVENT
DTSTART;TZID=Europe/Madrid:20260528T100000
DTEND;TZID=Europe/Madrid:20260528T210000
DTSTAMP:20260420T201141
CREATED:20260417T083657Z
LAST-MODIFIED:20260420T064856Z
UID:10007619-1779962400-1780002000@xativaturismo.com
SUMMARY:28 DE MAYO DE 2026-(C)
DESCRIPTION:
URL:https://xativaturismo.com/val/event/28-de-mayo-de-2026-c/
LOCATION:Castell de Xàtiva\, Pujada al Castell s/n\, Xàtiva\, 46800\, España
CATEGORIES:CASTELL
ORGANIZER;CN="Ajuntament de X%C3%A0tiva":MAILTO:xativa@touristinfo.net
END:VEVENT
BEGIN:VEVENT
DTSTART;TZID=Europe/Madrid:20260529T100000
DTEND;TZID=Europe/Madrid:20260529T180000
DTSTAMP:20260420T201141
CREATED:20260417T090432Z
LAST-MODIFIED:20260420T064911Z
UID:10007672-1780048800-1780077600@xativaturismo.com
SUMMARY:29 DE MAYO DE 2026-(M)
DESCRIPTION:
URL:https://xativaturismo.com/val/event/29-de-mayo-de-2026-m/
LOCATION:MUSEUS\, Plaça Arquebisbe Mayoral\, 2\, Xàtiva\, VALENCIA\, 46800\, España
CATEGORIES:MUSEUS
ORGANIZER;CN="Ajuntament de X%C3%A0tiva":MAILTO:xativa@touristinfo.net
END:VEVENT
BEGIN:VEVENT
DTSTART;TZID=Europe/Madrid:20260529T100000
DTEND;TZID=Europe/Madrid:20260529T210000
DTSTAMP:20260420T201141
CREATED:20260417T083657Z
LAST-MODIFIED:20260420T064856Z
UID:10007620-1780048800-1780088400@xativaturismo.com
SUMMARY:29 DE MAYO DE 2026-(C)
DESCRIPTION:
URL:https://xativaturismo.com/val/event/29-de-mayo-de-2026-c/
LOCATION:Castell de Xàtiva\, Pujada al Castell s/n\, Xàtiva\, 46800\, España
CATEGORIES:CASTELL
ORGANIZER;CN="Ajuntament de X%C3%A0tiva":MAILTO:xativa@touristinfo.net
END:VEVENT
BEGIN:VEVENT
DTSTART;TZID=Europe/Madrid:20260530T100000
DTEND;TZID=Europe/Madrid:20260530T180000
DTSTAMP:20260420T201141
CREATED:20260417T090821Z
LAST-MODIFIED:20260420T064911Z
UID:10007673-1780135200-1780164000@xativaturismo.com
SUMMARY:30 DE MAYO DE 2026-(M)
DESCRIPTION:
URL:https://xativaturismo.com/val/event/30-de-mayo-de-2026-m/
LOCATION:MUSEUS\, Plaça Arquebisbe Mayoral\, 2\, Xàtiva\, VALENCIA\, 46800\, España
CATEGORIES:MUSEUS
ORGANIZER;CN="Ajuntament de X%C3%A0tiva":MAILTO:xativa@touristinfo.net
END:VEVENT
BEGIN:VEVENT
DTSTART;TZID=Europe/Madrid:20260530T100000
DTEND;TZID=Europe/Madrid:20260530T210000
DTSTAMP:20260420T201141
CREATED:20260420T080322Z
LAST-MODIFIED:20260420T080438Z
UID:10007683-1780135200-1780174800@xativaturismo.com
SUMMARY:30 DE MAYO DE 2026-(C)
DESCRIPTION:
URL:https://xativaturismo.com/val/event/30-de-mayo-de-2026-c/
LOCATION:Castell de Xàtiva\, Pujada al Castell s/n\, Xàtiva\, 46800\, España
CATEGORIES:CASTELL
ORGANIZER;CN="Ajuntament de X%C3%A0tiva":MAILTO:xativa@touristinfo.net
END:VEVENT
BEGIN:VEVENT
DTSTART;TZID=Europe/Madrid:20260531T100000
DTEND;TZID=Europe/Madrid:20260531T140000
DTSTAMP:20260420T201141
CREATED:20260417T090821Z
LAST-MODIFIED:20260420T064911Z
UID:10007674-1780221600-1780236000@xativaturismo.com
SUMMARY:31 DE MAYO DE 2026-(M)
DESCRIPTION:
URL:https://xativaturismo.com/val/event/31-de-mayo-de-2026-m/
LOCATION:MUSEUS\, Plaça Arquebisbe Mayoral\, 2\, Xàtiva\, VALENCIA\, 46800\, España
CATEGORIES:MUSEUS
ORGANIZER;CN="Ajuntament de X%C3%A0tiva":MAILTO:xativa@touristinfo.net
END:VEVENT
BEGIN:VEVENT
DTSTART;TZID=Europe/Madrid:20260531T100000
DTEND;TZID=Europe/Madrid:20260531T210000
DTSTAMP:20260420T201141
CREATED:20260420T080323Z
LAST-MODIFIED:20260420T080438Z
UID:10007684-1780221600-1780261200@xativaturismo.com
SUMMARY:31 DE MAYO DE 2026-(C)
DESCRIPTION:
URL:https://xativaturismo.com/val/event/31-de-mayo-de-2026-c/
LOCATION:Castell de Xàtiva\, Pujada al Castell s/n\, Xàtiva\, 46800\, España
CATEGORIES:CASTELL
ORGANIZER;CN="Ajuntament de X%C3%A0tiva":MAILTO:xativa@touristinfo.net
END:VEVENT
END:VCALENDAR