BEGIN:VCALENDAR
VERSION:2.0
PRODID:-//Xàtiva Turismo - ECPv6.15.17//NONSGML v1.0//EN
CALSCALE:GREGORIAN
METHOD:PUBLISH
X-ORIGINAL-URL:https://xativaturismo.com/en/
X-WR-CALDESC:Events for Xàtiva Turismo
REFRESH-INTERVAL;VALUE=DURATION:PT1H
X-Robots-Tag:noindex
X-PUBLISHED-TTL:PT1H
BEGIN:VTIMEZONE
TZID:Europe/Madrid
BEGIN:DAYLIGHT
TZOFFSETFROM:+0100
TZOFFSETTO:+0200
TZNAME:CEST
DTSTART:20250330T010000
END:DAYLIGHT
BEGIN:STANDARD
TZOFFSETFROM:+0200
TZOFFSETTO:+0100
TZNAME:CET
DTSTART:20251026T010000
END:STANDARD
BEGIN:DAYLIGHT
TZOFFSETFROM:+0100
TZOFFSETTO:+0200
TZNAME:CEST
DTSTART:20260329T010000
END:DAYLIGHT
BEGIN:STANDARD
TZOFFSETFROM:+0200
TZOFFSETTO:+0100
TZNAME:CET
DTSTART:20261025T010000
END:STANDARD
BEGIN:DAYLIGHT
TZOFFSETFROM:+0100
TZOFFSETTO:+0200
TZNAME:CEST
DTSTART:20270328T010000
END:DAYLIGHT
BEGIN:STANDARD
TZOFFSETFROM:+0200
TZOFFSETTO:+0100
TZNAME:CET
DTSTART:20271031T010000
END:STANDARD
END:VTIMEZONE
BEGIN:VEVENT
DTSTART;TZID=Europe/Madrid:20260407T100000
DTEND;TZID=Europe/Madrid:20260407T180000
DTSTAMP:20260419T173758
CREATED:20260309T141756Z
LAST-MODIFIED:20260309T144657Z
UID:10007562-1775556000-1775584800@xativaturismo.com
SUMMARY:07 DE ABRIL DE 2026-(M)
DESCRIPTION:
URL:https://xativaturismo.com/en/event/07-de-abril-de-2026-m/
LOCATION:MUSEUS\, Plaça Arquebisbe Mayoral\, 2\, Xàtiva\, VALENCIA\, 46800\, España
CATEGORIES:MUSEUS
ORGANIZER;CN="Ajuntament de X%C3%A0tiva":MAILTO:xativa@touristinfo.net
END:VEVENT
BEGIN:VEVENT
DTSTART;TZID=Europe/Madrid:20260406T100000
DTEND;TZID=Europe/Madrid:20260406T140000
DTSTAMP:20260419T173758
CREATED:20260309T141756Z
LAST-MODIFIED:20260331T152627Z
UID:10007561-1775469600-1775484000@xativaturismo.com
SUMMARY:06 DE ABRIL DE 2026-(M)
DESCRIPTION:
URL:https://xativaturismo.com/en/event/06-de-abril-de-2026-m/
LOCATION:MUSEUS\, Plaça Arquebisbe Mayoral\, 2\, Xàtiva\, VALENCIA\, 46800\, España
CATEGORIES:MUSEUS
ORGANIZER;CN="Ajuntament de X%C3%A0tiva":MAILTO:xativa@touristinfo.net
END:VEVENT
BEGIN:VEVENT
DTSTART;TZID=Europe/Madrid:20260405T100000
DTEND;TZID=Europe/Madrid:20260405T140000
DTSTAMP:20260419T173758
CREATED:20260309T141751Z
LAST-MODIFIED:20260309T144657Z
UID:10007560-1775383200-1775397600@xativaturismo.com
SUMMARY:05 DE ABRIL DE 2026-(M)
DESCRIPTION:
URL:https://xativaturismo.com/en/event/05-de-abril-de-2026-m/
LOCATION:MUSEUS\, Plaça Arquebisbe Mayoral\, 2\, Xàtiva\, VALENCIA\, 46800\, España
CATEGORIES:MUSEUS
ORGANIZER;CN="Ajuntament de X%C3%A0tiva":MAILTO:xativa@touristinfo.net
END:VEVENT
BEGIN:VEVENT
DTSTART;TZID=Europe/Madrid:20260404T100000
DTEND;TZID=Europe/Madrid:20260404T180000
DTSTAMP:20260419T173758
CREATED:20260309T141751Z
LAST-MODIFIED:20260309T144641Z
UID:10007559-1775296800-1775325600@xativaturismo.com
SUMMARY:04 DE ABRIL DE 2026-(M)
DESCRIPTION:
URL:https://xativaturismo.com/en/event/04-de-abril-de-2026-m/
LOCATION:MUSEUS\, Plaça Arquebisbe Mayoral\, 2\, Xàtiva\, VALENCIA\, 46800\, España
CATEGORIES:MUSEUS
ORGANIZER;CN="Ajuntament de X%C3%A0tiva":MAILTO:xativa@touristinfo.net
END:VEVENT
BEGIN:VEVENT
DTSTART;TZID=Europe/Madrid:20260403T100000
DTEND;TZID=Europe/Madrid:20260403T140000
DTSTAMP:20260419T173758
CREATED:20260309T141750Z
LAST-MODIFIED:20260331T152611Z
UID:10007558-1775210400-1775224800@xativaturismo.com
SUMMARY:03 DE ABRIL DE 2026-(M)
DESCRIPTION:
URL:https://xativaturismo.com/en/event/03-de-abril-de-2026-m/
LOCATION:MUSEUS\, Plaça Arquebisbe Mayoral\, 2\, Xàtiva\, VALENCIA\, 46800\, España
CATEGORIES:MUSEUS
ORGANIZER;CN="Ajuntament de X%C3%A0tiva":MAILTO:xativa@touristinfo.net
END:VEVENT
BEGIN:VEVENT
DTSTART;TZID=Europe/Madrid:20260402T100000
DTEND;TZID=Europe/Madrid:20260402T180000
DTSTAMP:20260419T173758
CREATED:20260309T141750Z
LAST-MODIFIED:20260309T144641Z
UID:10007557-1775124000-1775152800@xativaturismo.com
SUMMARY:02 DE ABRIL DE 2026-(M)
DESCRIPTION:
URL:https://xativaturismo.com/en/event/02-de-abril-de-2026-m/
LOCATION:MUSEUS\, Plaça Arquebisbe Mayoral\, 2\, Xàtiva\, VALENCIA\, 46800\, España
CATEGORIES:MUSEUS
ORGANIZER;CN="Ajuntament de X%C3%A0tiva":MAILTO:xativa@touristinfo.net
END:VEVENT
BEGIN:VEVENT
DTSTART;TZID=Europe/Madrid:20260401T100000
DTEND;TZID=Europe/Madrid:20260401T180000
DTSTAMP:20260419T173758
CREATED:20260309T141749Z
LAST-MODIFIED:20260309T144641Z
UID:10007556-1775037600-1775066400@xativaturismo.com
SUMMARY:01 DE ABRIL DE 2026-(M)
DESCRIPTION:
URL:https://xativaturismo.com/en/event/01-de-abril-de-2026-m/
LOCATION:MUSEUS\, Plaça Arquebisbe Mayoral\, 2\, Xàtiva\, VALENCIA\, 46800\, España
CATEGORIES:MUSEUS
ORGANIZER;CN="Ajuntament de X%C3%A0tiva":MAILTO:xativa@touristinfo.net
END:VEVENT
BEGIN:VEVENT
DTSTART;TZID=Europe/Madrid:20260331T100000
DTEND;TZID=Europe/Madrid:20260331T173000
DTSTAMP:20260419T173758
CREATED:20260202T122412Z
LAST-MODIFIED:20260202T141323Z
UID:10007477-1774951200-1774978200@xativaturismo.com
SUMMARY:31 DE MARZO DE 2026-(M)
DESCRIPTION:
URL:https://xativaturismo.com/en/event/31-de-marzo-de-2026-m/
LOCATION:MUSEUS\, Plaça Arquebisbe Mayoral\, 2\, Xàtiva\, VALENCIA\, 46800\, España
CATEGORIES:MUSEUS
ORGANIZER;CN="Ajuntament de X%C3%A0tiva":MAILTO:xativa@touristinfo.net
END:VEVENT
BEGIN:VEVENT
DTSTART;TZID=Europe/Madrid:20260329T100000
DTEND;TZID=Europe/Madrid:20260329T140000
DTSTAMP:20260419T173758
CREATED:20260202T122224Z
LAST-MODIFIED:20260202T141323Z
UID:10007475-1774778400-1774792800@xativaturismo.com
SUMMARY:29 DE MARZO DE 2026-(M)
DESCRIPTION:
URL:https://xativaturismo.com/en/event/29-de-marzo-de-2026-m/
LOCATION:MUSEUS\, Plaça Arquebisbe Mayoral\, 2\, Xàtiva\, VALENCIA\, 46800\, España
CATEGORIES:MUSEUS
ORGANIZER;CN="Ajuntament de X%C3%A0tiva":MAILTO:xativa@touristinfo.net
END:VEVENT
BEGIN:VEVENT
DTSTART;TZID=Europe/Madrid:20260328T100000
DTEND;TZID=Europe/Madrid:20260328T173000
DTSTAMP:20260419T173758
CREATED:20260202T122223Z
LAST-MODIFIED:20260202T141323Z
UID:10007474-1774692000-1774719000@xativaturismo.com
SUMMARY:28 DE MARZO DE 2026-(M)
DESCRIPTION:
URL:https://xativaturismo.com/en/event/28-de-marzo-de-2026-m/
LOCATION:MUSEUS\, Plaça Arquebisbe Mayoral\, 2\, Xàtiva\, VALENCIA\, 46800\, España
CATEGORIES:MUSEUS
ORGANIZER;CN="Ajuntament de X%C3%A0tiva":MAILTO:xativa@touristinfo.net
END:VEVENT
BEGIN:VEVENT
DTSTART;TZID=Europe/Madrid:20260327T100000
DTEND;TZID=Europe/Madrid:20260327T173000
DTSTAMP:20260419T173758
CREATED:20260202T122223Z
LAST-MODIFIED:20260202T141323Z
UID:10007473-1774605600-1774632600@xativaturismo.com
SUMMARY:27 DE MARZO DE 2026-(M)
DESCRIPTION:
URL:https://xativaturismo.com/en/event/27-de-marzo-de-2026-m/
LOCATION:MUSEUS\, Plaça Arquebisbe Mayoral\, 2\, Xàtiva\, VALENCIA\, 46800\, España
CATEGORIES:MUSEUS
ORGANIZER;CN="Ajuntament de X%C3%A0tiva":MAILTO:xativa@touristinfo.net
END:VEVENT
BEGIN:VEVENT
DTSTART;TZID=Europe/Madrid:20260326T100000
DTEND;TZID=Europe/Madrid:20260326T173000
DTSTAMP:20260419T173758
CREATED:20260202T122222Z
LAST-MODIFIED:20260202T141323Z
UID:10007472-1774519200-1774546200@xativaturismo.com
SUMMARY:26 DE MARZO DE 2026-(M)
DESCRIPTION:
URL:https://xativaturismo.com/en/event/26-de-marzo-de-2026-m/
LOCATION:MUSEUS\, Plaça Arquebisbe Mayoral\, 2\, Xàtiva\, VALENCIA\, 46800\, España
CATEGORIES:MUSEUS
ORGANIZER;CN="Ajuntament de X%C3%A0tiva":MAILTO:xativa@touristinfo.net
END:VEVENT
BEGIN:VEVENT
DTSTART;TZID=Europe/Madrid:20260325T100000
DTEND;TZID=Europe/Madrid:20260325T173000
DTSTAMP:20260419T173758
CREATED:20260202T122209Z
LAST-MODIFIED:20260202T141323Z
UID:10007471-1774432800-1774459800@xativaturismo.com
SUMMARY:25 DE MARZO DE 2026-(M)
DESCRIPTION:
URL:https://xativaturismo.com/en/event/25-de-marzo-de-2026-m/
LOCATION:MUSEUS\, Plaça Arquebisbe Mayoral\, 2\, Xàtiva\, VALENCIA\, 46800\, España
CATEGORIES:MUSEUS
ORGANIZER;CN="Ajuntament de X%C3%A0tiva":MAILTO:xativa@touristinfo.net
END:VEVENT
BEGIN:VEVENT
DTSTART;TZID=Europe/Madrid:20260324T100000
DTEND;TZID=Europe/Madrid:20260324T173000
DTSTAMP:20260419T173758
CREATED:20260202T122208Z
LAST-MODIFIED:20260202T141323Z
UID:10007470-1774346400-1774373400@xativaturismo.com
SUMMARY:24 DE MARZO DE 2026-(M)
DESCRIPTION:
URL:https://xativaturismo.com/en/event/24-de-marzo-de-2026-m/
LOCATION:MUSEUS\, Plaça Arquebisbe Mayoral\, 2\, Xàtiva\, VALENCIA\, 46800\, España
CATEGORIES:MUSEUS
ORGANIZER;CN="Ajuntament de X%C3%A0tiva":MAILTO:xativa@touristinfo.net
END:VEVENT
BEGIN:VEVENT
DTSTART;TZID=Europe/Madrid:20260323T100000
DTEND;TZID=Europe/Madrid:20260323T173000
DTSTAMP:20260419T173758
CREATED:20260202T122207Z
LAST-MODIFIED:20260202T141323Z
UID:10007469-1774260000-1774287000@xativaturismo.com
SUMMARY:23 DE MARZO DE 2026-(M)
DESCRIPTION:
URL:https://xativaturismo.com/en/event/23-de-marzo-de-2026-m/
LOCATION:MUSEUS\, Plaça Arquebisbe Mayoral\, 2\, Xàtiva\, VALENCIA\, 46800\, España
CATEGORIES:MUSEUS
ORGANIZER;CN="Ajuntament de X%C3%A0tiva":MAILTO:xativa@touristinfo.net
END:VEVENT
BEGIN:VEVENT
DTSTART;TZID=Europe/Madrid:20260322T100000
DTEND;TZID=Europe/Madrid:20260322T140000
DTSTAMP:20260419T173758
CREATED:20260202T122207Z
LAST-MODIFIED:20260202T141323Z
UID:10007468-1774173600-1774188000@xativaturismo.com
SUMMARY:22 DE MARZO DE 2026-(M)
DESCRIPTION:
URL:https://xativaturismo.com/en/event/22-de-marzo-de-2026-m/
LOCATION:MUSEUS\, Plaça Arquebisbe Mayoral\, 2\, Xàtiva\, VALENCIA\, 46800\, España
CATEGORIES:MUSEUS
ORGANIZER;CN="Ajuntament de X%C3%A0tiva":MAILTO:xativa@touristinfo.net
END:VEVENT
BEGIN:VEVENT
DTSTART;TZID=Europe/Madrid:20260321T100000
DTEND;TZID=Europe/Madrid:20260321T173000
DTSTAMP:20260419T173758
CREATED:20260202T122206Z
LAST-MODIFIED:20260202T141323Z
UID:10007467-1774087200-1774114200@xativaturismo.com
SUMMARY:21 DE MARZO DE 2026-(M)
DESCRIPTION:
URL:https://xativaturismo.com/en/event/21-de-marzo-de-2026-m/
LOCATION:MUSEUS\, Plaça Arquebisbe Mayoral\, 2\, Xàtiva\, VALENCIA\, 46800\, España
CATEGORIES:MUSEUS
ORGANIZER;CN="Ajuntament de X%C3%A0tiva":MAILTO:xativa@touristinfo.net
END:VEVENT
BEGIN:VEVENT
DTSTART;TZID=Europe/Madrid:20260320T100000
DTEND;TZID=Europe/Madrid:20260320T173000
DTSTAMP:20260419T173758
CREATED:20260202T122154Z
LAST-MODIFIED:20260202T141323Z
UID:10007466-1774000800-1774027800@xativaturismo.com
SUMMARY:20 DE MARZO DE 2026-(M)
DESCRIPTION:
URL:https://xativaturismo.com/en/event/20-de-marzo-de-2026-m/
LOCATION:MUSEUS\, Plaça Arquebisbe Mayoral\, 2\, Xàtiva\, VALENCIA\, 46800\, España
CATEGORIES:MUSEUS
ORGANIZER;CN="Ajuntament de X%C3%A0tiva":MAILTO:xativa@touristinfo.net
END:VEVENT
BEGIN:VEVENT
DTSTART;TZID=Europe/Madrid:20260319T100000
DTEND;TZID=Europe/Madrid:20260319T173000
DTSTAMP:20260419T173758
CREATED:20260202T122153Z
LAST-MODIFIED:20260202T141305Z
UID:10007465-1773914400-1773941400@xativaturismo.com
SUMMARY:19 DE MARZO DE 2026-(M)
DESCRIPTION:
URL:https://xativaturismo.com/en/event/19-de-marzo-de-2026-m/
LOCATION:MUSEUS\, Plaça Arquebisbe Mayoral\, 2\, Xàtiva\, VALENCIA\, 46800\, España
CATEGORIES:MUSEUS
ORGANIZER;CN="Ajuntament de X%C3%A0tiva":MAILTO:xativa@touristinfo.net
END:VEVENT
END:VCALENDAR